Workbook

Sheet m3
J1: Приложение 4.2.3.2
A2: Количествено състояние на подземни водни тела по цели
A3: Код на подземното водно тяло | B3: Наименование на водното тяло | C3: Черпени средногодишни дебити, в m3 /год. | L3: Експлоатационен индекс %
C4: Цел на водовземане
C5: (3.2.) За централно питейно-битово водоснабдяване на населението | D5: (3.1.) За селскостопански цели (напояване и животновъдство) | E5: (3.3.) За индустриални цели | F5: (3.4.) За охлаждане или производство на енергия (без ВЕЦ) | G5: (3.5) За аквакултури | H5: (3.6.) За задоволяване на собствени потребности | I5: (3.7.) Други | J5: Общо | K5: Разполагаеми ресурси, m3/год.
C6: Движеща сила
C7: Градско развитие | D7: Селско стопанство | E7: Индустрия | F7: Индустрия | G7: Аквакултури | H7: Градско развитие/Селско стопанство/други | I7: Услуги, отдих и воден спорт
A8: BG2G000000Q002 | B8: Порови води в кватернера на р. Батова | C8: 0 | D8: 0 | E8: 0 | F8: 0 | G8: 0 | H8: 0 | I8: =l_s!I8*365*86.4 -> 0 | J8: =SUM(C8:I8) -> 0 | K8: =l_s!K8*365*86.4 -> 604860.48 | L8: 0
A9: BG2G000000Q003 | B9: Порови води в кватернер на р. Провадийска | C9: 592876.8 | D9: 31536 | E9: 17660.16 | F9: 2207.52 | G9: 0 | H9: 33847.462 | I9: 315.36 | J9: =SUM(C9:I9) -> 678443.3 | K9: =l_s!K9*365*86.4 -> 9315419 | L9: 7
A10: BG2G000000Q004 | B10: Порови води в кватернера на р. Врана | C10: 827189.28 | D10: 188585.2 | E10: 37978 | F10: 60830 | G10: 0 | H10: 221939.24 | I10: 13245.12 | J10: =SUM(C10:I10) -> 1349766.8 | K10: =l_s!K10*365*86.4 -> 9217026.7 | L10: 15
A11: BG2G000000Q005 | B11: Порови води в кватернера на р. Камчия | C11: 550548 | D11: 47400 | E11: 657 | F11: 0 | G11: 0 | H11: 183224 | I11: 0 | J11: =SUM(C11:H11) -> 781829 | K11: =l_s!K11*365*86.4 -> 9937309 | L11: 8
A12: BG2G000000Q006 | B12: Порови води в кватернера на р. Хаджийска | C12: 670597 | D12: 8147 | E12: 0 | F12: 0 | G12: 0 | H12: 81884.88 | I12: 2874 | J12: =SUM(C12:I12) -> 763502.88 | K12: =l_s!K12*365*86.4 -> 2729125.4 | L12: 28
A13: BG2G000000Q007 | B13: Порови води в кватернер на р. Луда Камчия | C13: 44319 | D13: 0 | E13: 0 | F13: 0 | G13: 0 | H13: 23967.36 | I13: 0 | J13: =SUM(C13:I13) -> 68286.36 | K13: =l_s!K13*365*86.4 -> 1504267.2 | L13: 5
A14: BG2G000000Q008 | B14: Порови води в кватернера на р. Айтоска | C14: 121069 | D14: 39209 | E14: 0 | F14: 842 | G14: 0 | H14: 156647.48 | I14: 1.011 | J14: =SUM(C14:I14) -> 317768.49 | K14: =l_s!K14*365*86.4 -> 5329584 | L14: 6
A15: BG2G000000Q009 | B15: Порови води в кватернера на р. Средецка – Мандра | C15: 1135793 | D15: 1630 | E15: 2325 | F15: 921 | G15: 0 | H15: 18921.6 | I15: 901 | J15: =SUM(C15:I15) -> 1160491.6 | K15: =l_s!K15*365*86.4 -> 7284816 | L15: 16
A16: BG2G000000Q010 | B16: Порови води в кватернера на р. Ропотамо | C16: 93276 | D16: 0 | E16: 0 | F16: 0 | G16: 0 | H16: 0 | I16: 0 | J16: =SUM(C16:I16) -> 93276 | K16: =l_s!K16*365*86.4 -> 819936 | L16: 12
A17: BG2G000000Q011 | B17: Порови води в кватернера на р. Дяволска | C17: 0 | D17: 0 | E17: 0 | F17: 121 | G17: 0 | H17: 0 | I17: 18415 | J17: =SUM(C17:I17) -> 18536 | K17: =l_s!K17*365*86.4 -> 693792 | L17: 3
A18: BG2G000000Q012 | B18: Порови води в кватернера на р. Велека | C18: 126958 | D18: 3 | E18: 0 | F18: 0 | G18: 0 | H18: 0 | I18: 0 | J18: =SUM(C18:I18) -> 126961 | K18: =l_s!K18*365*86.4 -> 1135296 | L18: 11
A19: BG2G000000Q013 | B19: Порови води в кватернера на р. Резовска | C19: 0 | D19: 0 | E19: 0 | F19: 0 | G19: 0 | H19: 0 | I19: 0 | J19: =SUM(C19:I19) -> 0 | K19: =l_s!K19*365*86.4 -> 220752 | L19: =J19/K19*100 -> 0
A20: BG2G000000Q014 | B20: Порови води в кватернера на р. Двойница | C20: 520520 | D20: 0 | E20: 0 | F20: 0 | G20: 0 | H20: 0 | I20: 4326 | J20: =SUM(C20:I20) -> 524846 | K20: =l_s!K20*365*86.4 -> 1261440 | L20: 42
A21: BG2G000000N018 | B21: Карстово-порови води в неоген - миоцен - сармат Изгрев - Варна - Ботево - Батово | C21: 3930682 | D21: 69039 | E21: 82199 | F21: 413 | G21: 940 | H21: 683011.8 | I21: 36096 | J21: =SUM(C21:I21) -> 4802380.8 | K21: =l_s!K21*365*86.4 -> 60788794 | L21: 8
A22: BG2G000000N019 | B22: Порови води в неоген - миоцен Галата- Долен чифлик | C22: 537843 | D22: 20381 | E22: 2331 | F22: 0 | G22: 0 | H22: 275427.96 | I22: 30708 | J22: =SUM(C22:I22) -> 866690.96 | K22: =l_s!K22*365*86.4 -> 7834803.8 | L22: 11
A23: BG2G000000N020 | B23: Порови води в неоген - сармат Руен - Несебър | C23: 0 | D23: 78383 | E23: 205 | F23: 0 | G23: 0 | H23: 0 | I23: 9871 | J23: =SUM(C23:I23) -> 88459 | K23: =l_s!K23*365*86.4 -> 567648 | L23: 16
A24: BG2G000000N021 | B24: Порови води в неоген - сармат Айтос | C24: 0 | D24: 0 | E24: 0 | F24: 0 | G24: 0 | H24: 0 | I24: 0 | J24: =SUM(C24:I24) -> 0 | K24: =l_s!K24*365*86.4 -> 693792 | L24: =J24/K24*100 -> 0
A25: BG2G000000N022 | B25: Порови води в неоген - сармат Средец | C25: 0 | D25: 0 | E25: 0 | F25: 0 | G25: 0 | H25: 0 | I25: 0 | J25: =SUM(C25:I25) -> 0 | K25: =l_s!K25*365*86.4 -> 819936 | L25: =J25/K25*100 -> 0
A26: BG2G000000N023 | B26: Порови води в неоген - сармат Созопол | C26: 0 | D26: 0 | E26: 0 | F26: 0 | G26: 0 | H26: 1892.16 | I26: 0 | J26: =SUM(C26:I26) -> 1892.16 | K26: =l_s!K26*365*86.4 -> 157680 | L26: 1
A27: BG2G000000N024 | B27: Порови води в неоген - сармат Приморско | C27: 0 | D27: 117 | E27: 0 | F27: 0 | G27: 0 | H27: 13245.12 | I27: 2398 | J27: =SUM(C27:I27) -> 15760.12 | K27: =l_s!K27*365*86.4 -> 235889.28 | L27: 7
A28: BG2G000000N025 | B28: Порови води в неоген - Бургас | C28: 0 | D28: 8239 | E28: 112452 | F28: 75225 | G28: 0 | H28: 321667.2 | I28: 39534 | J28: =SUM(C28:I28) -> 557117.2 | K28: =l_s!K28*365*86.4 -> 1513728 | L28: 37
A29: BG2G000000N044 | B29: Карстово - порови води в неоген - сармат СИ Добруджа | C29: 600000 | D29: 1264774 | E29: 13297 | F29: 4827 | G29: 0 | H29: 455396.48 | I29: 108215 | J29: =SUM(C29:I29) -> 2446509.5 | K29: =l_s!K29*365*86.4 -> 84910049 | L29: 3
A30: BG2G00000PG026 | B30: Порови води в палеоген - еоцен Варна - Шабла | C30: 87910 | D30: 31383 | E30: 59399 | F30: 235624 | G30: 3659 | H30: 54334 | I30: 5210 | J30: =SUM(C30:I30) -> 477519 | K30: =l_s!K30*365*86.4 -> 34829304 | L30: 1
A31: BG2G00000PG027 | B31: Порови води в палеоген - еоцен, олигоцен Провадия | C31: 195130 | D31: 0 | E31: 0 | F31: 0 | G31: 0 | H31: 0 | I31: 0 | J31: =SUM(C31:I31) -> 195130 | K31: =l_s!K31*365*86.4 -> 22838592 | L31: 1
A32: BG2G00000PG028 | B32: Порови води в палеоген, палеоцен, еоцен Руен- Бяла | C32: 543766 | D32: 0 | E32: 0 | F32: 0 | G32: 0 | H32: 7592 | I32: 826 | J32: =SUM(C32:I32) -> 552184 | K32: =l_s!K32*365*86.4 -> 12433194 | L32: 4
A33: BG2G00000PG029 | B33: Порови води в палеоген, еоцен, олигоцен Бургас | C33: 14280 | D33: 22496 | E33: 6227 | F33: 21782 | G33: 0 | H33: 0 | I33: 10966 | J33: =SUM(C33:I33) -> 75751 | K33: =l_s!K33*365*86.4 -> 6226657.1 | L33: 1
A34: BG2G00000К2030 | B34: Карстови води в горна креда-мастрихт Шуменско плато | C34: 135785 | D34: 260584 | E34: 0 | F34: 0 | G34: 0 | H34: 169 | I34: 0 | J34: =SUM(C34:I34) -> 396538 | K34: =l_s!K34*365*86.4 -> 4114817.3 | L34: 10
A35: BG2G00000К2031 | B35: Карстови води в горна креда турон-мастрихт Каспичан | C35: 0 | D35: 0 | E35: 0 | F35: 0 | G35: 0 | H35: 4730.4 | I35: 0 | J35: =SUM(C35:I35) -> 4730.4 | K35: =l_s!K35*365*86.4 -> 2149493.8 | L35: 0
A36: BG2G00000К2032 | B36: Карстово - пукнатинни води в горна креда - турон - мастрихт - Провадийска синклинала | C36: 648400 | D36: 0 | E36: 0 | F36: 0 | G36: 0 | H36: 78047.56 | I36: 0 | J36: =SUM(C36:I36) -> 726447.56 | K36: =l_s!K36*365*86.4 -> 6994684.8 | L36: 10
A37: BG2G00000К2033 | B37: Карстово - пукнатинни води в горна креда, плюс юра - триас Котелски карстов басейн | C37: 3119770 | D37: 0 | E37: 0 | F37: 0 | G37: 0 | H37: 111068.12 | I37: 49 | J37: =SUM(C37:I37) -> 3230887.1 | K37: =l_s!K37*365*86.4 -> 24043046 | L37: 13
... A45: BG2G000J3К1041 | B45: Карстови води в малм-валанж | C45: 24636551 | D45: 494269 | E45: 732268 | F45: 436232 | G45: 0 | H45: 408973 | I45: 25467 | J45: =SUM(C45:I45) -> 26733760 | K45: =l_s!K45*365*86.4 -> 2.0666298e+08 | L45: 13
A46: BG2G00000JT042 | B46: Карстови води в юра-триас карстово-пукнатинна зона | C46: 377507 | D46: 202 | G46: 0 | H46: 4415.04 | I46: 517 | J46: =SUM(C46:I46) -> 382641.04 | K46: =l_s!K46*365*86.4 -> 36297936 | L46: 1
A47: BG2G000PtPZ043 | B47: Пукнатинни води в палеозой- протерозой пукнатинна зона | C47: 169330 | D47: 526 | E47: 0 | F47: 0 | G47: 0 | H47: 131505.12 | I47: 0 | J47: =SUM(C47:I47) -> 301361.12 | K47: =l_s!K47*365*86.4 -> 40334544 | L47: 1

Sheet l_s
J1: Приложение 4.2.3.2
A2: Количествено състояние на подземни водни тела по цели
A3: Код на подземното водно тяло | B3: Наименование на водното тяло | C3: Черпени средногодишни дебити, l/s | L3: Експлоатационен индекс %
C4: Цел на водовземане
C5: (3.2.) За централно питейно-битово водоснабдяване на населението | D5: (3.1.) За селскостопански цели (напояване и животновъдство) | E5: (3.3.) За индустриални цели | F5: (3.4.) За охлаждане или производство на енергия (без ВЕЦ) | G5: (3.5) За аквакултури | H5: (3.6.) За задоволяване на собствени потребности | I5: (3.7.) Други | J5: Общо | K5: Разполагаеми ресурси, l/s
C6: Движеща сила
C7: Градско развитие | D7: Селско стопанство | E7: Индустрия | F7: Индустрия | G7: Аквакултури | H7: Градско развитие/Селско стопанство/други | I7: Услуги, отдих и воден спорт
A8: BG2G000000Q002 | B8: Порови води в кватернера на р. Батова | C8: ='m3'!C8/365/86.54 -> 0 | D8: ='m3'!D8/365/86.54 -> 0 | E8: ='m3'!E8/365/86.54 -> 0 | F8: ='m3'!F8/365/86.54 -> 0 | G8: ='m3'!G8/365/86.54 -> 0 | H8: ='m3'!H8/365/86.54 -> 0 | I8: 0 | J8: ='m3'!J8/365/86.54 -> 0 | K8: 19.18 | L8: 0
A9: BG2G000000Q003 | B9: Порови води в кватернер на р. Провадийска | C9: ='m3'!C9/365/86.4 -> 18.8 | D9: ='m3'!D9/365/86.4 -> 1 | E9: ='m3'!E9/365/86.4 -> 0.56 | F9: ='m3'!F9/365/86.4 -> 0.07 | G9: ='m3'!G9/365/86.4 -> 0 | H9: ='m3'!H9/365/86.4 -> 1.073296 | I9: ='m3'!I9/365/86.4 -> 0.01 | J9: ='m3'!J9/365/86.4 -> 21.513296 | K9: 295.39 | L9: 7
A10: BG2G000000Q004 | B10: Порови води в кватернера на р. Врана | C10: ='m3'!C10/365/86.4 -> 26.23 | D10: ='m3'!D10/365/86.4 -> 5.9799975 | E10: ='m3'!E10/365/86.4 -> 1.2042745 | F10: ='m3'!F10/365/86.4 -> 1.9289066 | G10: ='m3'!G10/365/86.4 -> 0 | H10: ='m3'!H10/365/86.4 -> 7.0376471 | I10: ='m3'!I10/365/86.4 -> 0.42 | J10: =SUM(C10:I10) -> 42.800826 | K10: 292.27 | L10: 15
A11: BG2G000000Q005 | B11: Порови води в кватернера на р. Камчия | C11: ='m3'!C11/365/86.4 -> 17.457763 | D11: ='m3'!D11/365/86.4 -> 1.5030441 | E11: ='m3'!E11/365/86.4 -> 0.020833333 | F11: ='m3'!F11/365/86.4 -> 0 | G11: ='m3'!G11/365/86.4 -> 0 | H11: ='m3'!H11/365/86.4 -> 5.8099949 | I11: ='m3'!I11/365/86.4 -> 0 | J11: =SUM(C11:I11) -> 24.791635 | K11: 315.11 | L11: 8
A12: BG2G000000Q006 | B12: Порови води в кватернера на р. Хаджийска | C12: ='m3'!C12/365/86.4 -> 21.264491 | D12: ='m3'!D12/365/86.4 -> 0.25833968 | E12: ='m3'!E12/365/86.4 -> 0 | F12: ='m3'!F12/365/86.4 -> 0 | G12: ='m3'!G12/365/86.4 -> 0 | H12: ='m3'!H12/365/86.4 -> 2.5965525 | I12: ='m3'!I12/365/86.4 -> 0.091133942 | J12: ='m3'!J12/365/86.4 -> 24.210518 | K12: 86.54 | L12: 28
A13: BG2G000000Q007 | B13: Порови води в кватернер на р. Луда Камчия | C13: ='m3'!C13/365/86.4 -> 1.4053463 | D13: ='m3'!D13/365/86.4 -> 0 | E13: ='m3'!E13/365/86.4 -> 0 | F13: ='m3'!F13/365/86.4 -> 0 | G13: ='m3'!G13/365/86.4 -> 0 | H13: ='m3'!H13/365/86.4 -> 0.76 | I13: ='m3'!I13/365/86.4 -> 0 | J13: =SUM(C13:I13) -> 2.1653463 | K13: 47.7 | L13: 5
A14: BG2G000000Q008 | B14: Порови води в кватернера на р. Айтоска | C14: ='m3'!C14/365/86.4 -> 3.8390728 | D14: ='m3'!D14/365/86.4 -> 1.2433092 | E14: ='m3'!E14/365/86.4 -> 0 | F14: ='m3'!F14/365/86.4 -> 0.026699645 | G14: ='m3'!G14/365/86.4 -> 0 | H14: ='m3'!H14/365/86.4 -> 4.967259 | I14: ='m3'!I14/365/86.4 -> 3.20586e-05 | J14: =SUM(C14:I14) -> 10.076373 | K14: 169 | L14: 6
A15: BG2G000000Q009 | B15: Порови води в кватернера на р. Средецка – Мандра | C15: ='m3'!C15/365/86.4 -> 36.01576 | D15: ='m3'!D15/365/86.4 -> 0.051686961 | E15: ='m3'!E15/365/86.4 -> 0.073725266 | F15: ='m3'!F15/365/86.4 -> 0.029204718 | G15: ='m3'!G15/365/86.4 -> 0 | H15: ='m3'!H15/365/86.4 -> 0.6 | I15: ='m3'!I15/365/86.4 -> 0.028570523 | J15: =SUM(C15:I15) -> 36.798947 | K15: 231 | L15: 16
A16: BG2G000000Q010 | B16: Порови води в кватернера на р. Ропотамо | C16: ='m3'!C16/365/86.4 -> 2.9577626 | D16: ='m3'!D16/365/86.4 -> 0 | E16: ='m3'!E16/365/86.4 -> 0 | F16: ='m3'!F16/365/86.4 -> 0 | G16: ='m3'!G16/365/86.4 -> 0 | H16: ='m3'!H16/365/86.4 -> 0 | I16: ='m3'!I16/365/86.4 -> 0 | J16: =SUM(C16:I16) -> 2.9577626 | K16: 26 | L16: 12
A17: BG2G000000Q011 | B17: Порови води в кватернера на р. Дяволска | C17: ='m3'!C17/365/86.4 -> 0 | D17: ='m3'!D17/365/86.4 -> 0 | E17: ='m3'!E17/365/86.4 -> 0 | F17: ='m3'!F17/365/86.4 -> 0.0038368848 | G17: ='m3'!G17/365/86.4 -> 0 | H17: ='m3'!H17/365/86.4 -> 0 | I17: ='m3'!I17/365/86.4 -> 0.58393582 | J17: =SUM(C17:I17) -> 0.5877727 | K17: 22 | L17: 3
A18: BG2G000000Q012 | B18: Порови води в кватернера на р. Велека | C18: ='m3'!C18/365/86.4 -> 4.0258118 | D18: ='m3'!D18/365/86.4 -> 9.5129376e-05 | E18: ='m3'!E18/365/86.4 -> 0 | F18: ='m3'!F18/365/86.4 -> 0 | G18: ='m3'!G18/365/86.4 -> 0 | H18: ='m3'!H18/365/86.4 -> 0 | I18: ='m3'!I18/365/86.4 -> 0 | J18: =SUM(C18:I18) -> 4.0259069 | K18: 36 | L18: 11
A19: BG2G000000Q013 | B19: Порови води в кватернера на р. Резовска | C19: ='m3'!C19/365/86.4 -> 0 | D19: ='m3'!D19/365/86.4 -> 0 | E19: ='m3'!E19/365/86.4 -> 0 | F19: ='m3'!F19/365/86.4 -> 0 | G19: ='m3'!G19/365/86.4 -> 0 | H19: ='m3'!H19/365/86.4 -> 0 | I19: ='m3'!I19/365/86.4 -> 0 | J19: =SUM(C19:I19) -> 0 | K19: 7 | L19: =J19/K19*100 -> 0
A20: BG2G000000Q014 | B20: Порови води в кватернера на р. Двойница | C20: ='m3'!C20/365/86.4 -> 16.505581 | D20: ='m3'!D20/365/86.4 -> 0 | E20: ='m3'!E20/365/86.4 -> 0 | F20: ='m3'!F20/365/86.4 -> 0 | G20: ='m3'!G20/365/86.4 -> 0 | H20: ='m3'!H20/365/86.4 -> 0 | I20: ='m3'!I20/365/86.4 -> 0.13717656 | J20: =SUM(C20:I20) -> 16.642757 | K20: 40 | L20: 42
A21: BG2G000000N018 | B21: Карстово-порови води в неоген - миоцен - сармат Изгрев - Варна - Ботево - Батово | C21: ='m3'!C21/365/86.4 -> 124.64111 | D21: ='m3'!D21/365/86.4 -> 2.1892123 | E21: ='m3'!E21/365/86.4 -> 2.6065132 | F21: ='m3'!F21/365/86.4 -> 0.013096144 | G21: ='m3'!G21/365/86.4 -> 0.029807204 | H21: ='m3'!H21/365/86.4 -> 21.658162 | I21: ='m3'!I21/365/86.4 -> 1.1445967 | J21: =SUM(C21:I21) -> 152.2825 | K21: 1927.6 | L21: 8
A22: BG2G000000N019 | B22: Порови води в неоген - миоцен Галата- Долен чифлик | C22: ='m3'!C22/365/86.4 -> 17.05489 | D22: ='m3'!D22/365/86.4 -> 0.64627727 | E22: ='m3'!E22/365/86.4 -> 0.073915525 | F22: ='m3'!F22/365/86.4 -> 0 | G22: ='m3'!G22/365/86.4 -> 0 | H22: ='m3'!H22/365/86.4 -> 8.7337633 | I22: ='m3'!I22/365/86.4 -> 0.97374429 | J22: =SUM(C22:I22) -> 27.48259 | K22: 248.44 | L22: 11
A23: BG2G000000N020 | B23: Порови води в неоген - сармат Руен - Несебър | C23: ='m3'!C23/365/86.4 -> 0 | D23: ='m3'!D23/365/86.4 -> 2.4855086 | E23: ='m3'!E23/365/86.4 -> 0.0065005074 | F23: ='m3'!F23/365/86.4 -> 0 | G23: ='m3'!G23/365/86.4 -> 0 | H23: ='m3'!H23/365/86.4 -> 0 | I23: ='m3'!I23/365/86.4 -> 0.31300736 | J23: =SUM(C23:I23) -> 2.8050165 | K23: 18 | L23: 16
A24: BG2G000000N021 | B24: Порови води в неоген - сармат Айтос | C24: ='m3'!C24/365/86.4 -> 0 | D24: ='m3'!D24/365/86.4 -> 0 | E24: ='m3'!E24/365/86.4 -> 0 | F24: ='m3'!F24/365/86.4 -> 0 | G24: ='m3'!G24/365/86.4 -> 0 | H24: ='m3'!H24/365/86.4 -> 0 | I24: ='m3'!I24/365/86.4 -> 0 | J24: =SUM(C24:I24) -> 0 | K24: 22 | L24: =J24/K24*100 -> 0
A25: BG2G000000N022 | B25: Порови води в неоген - сармат Средец | C25: ='m3'!C25/365/86.4 -> 0 | D25: ='m3'!D25/365/86.4 -> 0 | E25: ='m3'!E25/365/86.4 -> 0 | F25: ='m3'!F25/365/86.4 -> 0 | G25: ='m3'!G25/365/86.4 -> 0 | H25: ='m3'!H25/365/86.4 -> 0 | I25: ='m3'!I25/365/86.4 -> 0 | J25: =SUM(C25:I25) -> 0 | K25: 26 | L25: =J25/K25*100 -> 0
A26: BG2G000000N023 | B26: Порови води в неоген - сармат Созопол | C26: ='m3'!C26/365/86.4 -> 0 | D26: ='m3'!D26/365/86.4 -> 0 | E26: ='m3'!E26/365/86.4 -> 0 | F26: ='m3'!F26/365/86.4 -> 0 | G26: ='m3'!G26/365/86.4 -> 0 | H26: ='m3'!H26/365/86.4 -> 0.06 | I26: ='m3'!I26/365/86.4 -> 0 | J26: =SUM(C26:I26) -> 0.06 | K26: 5 | L26: 1
A27: BG2G000000N024 | B27: Порови води в неоген - сармат Приморско | C27: ='m3'!C27/365/86.4 -> 0 | D27: ='m3'!D27/365/86.4 -> 0.0037100457 | E27: ='m3'!E27/365/86.4 -> 0 | F27: ='m3'!F27/365/86.4 -> 0 | G27: ='m3'!G27/365/86.4 -> 0 | H27: ='m3'!H27/365/86.4 -> 0.42 | I27: ='m3'!I27/365/86.4 -> 0.076040081 | J27: =SUM(C27:I27) -> 0.49975013 | K27: 7.48 | L27: 7
A28: BG2G000000N025 | B28: Порови води в неоген - Бургас | C28: ='m3'!C28/365/86.4 -> 0 | D28: ='m3'!D28/365/86.4 -> 0.26125698 | E28: ='m3'!E28/365/86.4 -> 3.5658295 | F28: ='m3'!F28/365/86.4 -> 2.3853691 | G28: ='m3'!G28/365/86.4 -> 0 | H28: ='m3'!H28/365/86.4 -> 10.2 | I28: ='m3'!I28/365/86.4 -> 1.2536149 | J28: =SUM(C28:I28) -> 17.666071 | K28: 48 | L28: 37
A29: BG2G000000N044 | B29: Карстово - порови води в неоген - сармат СИ Добруджа | C29: ='m3'!C29/365/86.4 -> 19.025875 | D29: ='m3'!D29/365/86.4 -> 40.10572 | E29: ='m3'!E29/365/86.4 -> 0.4216451 | F29: ='m3'!F29/365/86.4 -> 0.15306317 | G29: ='m3'!G29/365/86.4 -> 0 | H29: ='m3'!H29/365/86.4 -> 14.440528 | I29: ='m3'!I29/365/86.4 -> 3.4314751 | J29: =SUM(C29:I29) -> 77.578307 | K29: 2692.48 | L29: 3
A30: BG2G00000PG026 | B30: Порови води в палеоген - еоцен Варна - Шабла | C30: ='m3'!C30/365/86.4 -> 2.7876078 | D30: ='m3'!D30/365/86.4 -> 0.9951484 | E30: ='m3'!E30/365/86.4 -> 1.8835299 | F30: ='m3'!F30/365/86.4 -> 7.471588 | G30: ='m3'!G30/365/86.4 -> 0.11602613 | H30: ='m3'!H30/365/86.4 -> 1.7229198 | I30: ='m3'!I30/365/86.4 -> 0.16520802 | J30: =SUM(C30:I30) -> 15.142028 | K30: 1104.43 | L30: 1
A31: BG2G00000PG027 | B31: Порови води в палеоген - еоцен, олигоцен Провадия | C31: ='m3'!C31/365/86.4 -> 6.1875317 | D31: ='m3'!D31/365/86.4 -> 0 | E31: ='m3'!E31/365/86.4 -> 0 | F31: ='m3'!F31/365/86.4 -> 0 | G31: ='m3'!G31/365/86.4 -> 0 | H31: ='m3'!H31/365/86.4 -> 0 | I31: ='m3'!I31/365/86.4 -> 0 | J31: =SUM(C31:I31) -> 6.1875317 | K31: 724.207 | L31: 1
A32: BG2G00000PG028 | B32: Порови води в палеоген, палеоцен, еоцен Руен- Бяла | C32: ='m3'!C32/365/86.4 -> 17.242707 | D32: ='m3'!D32/365/86.4 -> 0 | E32: ='m3'!E32/365/86.4 -> 0 | F32: ='m3'!F32/365/86.4 -> 0 | G32: ='m3'!G32/365/86.4 -> 0 | H32: ='m3'!H32/365/86.4 -> 0.24074074 | I32: ='m3'!I32/365/86.4 -> 0.026192288 | J32: =SUM(C32:I32) -> 17.50964 | K32: 394.254 | L32: 4
A33: BG2G00000PG029 | B33: Порови води в палеоген-еоцен, олигоцен Бургас | C33: ='m3'!C33/365/86.4 -> 0.45281583 | D33: ='m3'!D33/365/86.4 -> 0.71334348 | E33: ='m3'!E33/365/86.4 -> 0.19745687 | F33: ='m3'!F33/365/86.4 -> 0.69070269 | G33: ='m3'!G33/365/86.4 -> 0 | H33: ='m3'!H33/365/86.4 -> 0 | I33: ='m3'!I33/365/86.4 -> 0.34772958 | J33: =SUM(C33:I33) -> 2.4020485 | K33: 197.446 | L33: 1
A34: BG2G00000К2030 | B34: Карстови води в горна креда-мастрихт Шуменско плато | C34: ='m3'!C34/365/86.4 -> 4.3057141 | D34: ='m3'!D34/365/86.4 -> 8.2630644 | E34: ='m3'!E34/365/86.4 -> 0 | F34: ='m3'!F34/365/86.4 -> 0 | G34: ='m3'!G34/365/86.4 -> 0 | H34: ='m3'!H34/365/86.4 -> 0.0053589548 | I34: ='m3'!I34/365/86.4 -> 0 | J34: =SUM(C34:I34) -> 12.574137 | K34: 130.48 | L34: 10
A35: BG2G00000К2031 | B35: Карстови води в горна креда турон-мастрихт Каспичан | C35: ='m3'!C35/365/86.4 -> 0 | D35: ='m3'!D35/365/86.4 -> 0 | E35: ='m3'!E35/365/86.4 -> 0 | F35: ='m3'!F35/365/86.4 -> 0 | G35: ='m3'!G35/365/86.4 -> 0 | H35: ='m3'!H35/365/86.4 -> 0.15 | I35: ='m3'!I35/365/86.4 -> 0 | J35: =SUM(C35:I35) -> 0.15 | K35: 68.16 | L35: 0
A36: BG2G00000К2032 | B36: Карстово - пукнатинни води в горна креда - турон - мастрихт - Провадийска синклинала | C36: ='m3'!C36/365/86.4 -> 20.560629 | D36: ='m3'!D36/365/86.4 -> 0 | E36: ='m3'!E36/365/86.4 -> 0 | F36: ='m3'!F36/365/86.4 -> 0 | G36: ='m3'!G36/365/86.4 -> 0 | H36: ='m3'!H36/365/86.4 -> 2.4748719 | I36: ='m3'!I36/365/86.4 -> 0 | J36: =SUM(C36:I36) -> 23.035501 | K36: 221.8 | L36: 10
A37: BG2G00000К2033 | B37: Карстово - пукнатинни води в горна креда, плюс юра - триас Котелски карстов басейн | C37: ='m3'!C37/365/86.4 -> 98.927258 | D37: ='m3'!D37/365/86.4 -> 0 | E37: ='m3'!E37/365/86.4 -> 0 | F37: ='m3'!F37/365/86.4 -> 0 | G37: ='m3'!G37/365/86.4 -> 0 | H37: ='m3'!H37/365/86.4 -> 3.521947 | I37: ='m3'!I37/365/86.4 -> 0.0015537798 | J37: =SUM(C37:I37) -> 102.45076 | K37: 762.4 | L37: 13
... A47: BG2G000PTPZ043 | B47: Пукнатинни води в палеозой- протерозой пукнатинна зона | C47: ='m3'!C47/365/86.4 -> 5.3694191 | D47: ='m3'!D47/365/86.4 -> 0.016679351 | E47: ='m3'!E47/365/86.4 -> 0 | F47: ='m3'!F47/365/86.4 -> 0 | G47: ='m3'!G47/365/86.4 -> 0 | H47: ='m3'!H47/365/86.4 -> 4.17 | I47: ='m3'!I47/365/86.4 -> 0 | J47: =SUM(C47:I47) -> 9.5560984 | K47: 1279 | L47: 1
